BEGIN:VCALENDAR
VERSION:2.0
PRODID:-//ChamberMaster//Event Calendar 2.0//EN
METHOD:PUBLISH
X-PUBLISHED-TTL:P3D
REFRESH-INTERVAL:P3D
CALSCALE:GREGORIAN
BEGIN:VEVENT
DTSTART:20240221T190000Z
DTEND:20240221T230000Z
X-MICROSOFT-CDO-ALLDAYEVENT:FALSE
SUMMARY:CGLCC Trade Mission (Invitation Only)
DESCRIPTION:TBD(Invite Only)
X-ALT-DESC;FMTTYPE=text/html:TBD(Invite Only)
LOCATION:TBD(Invite Only)
UID:e.1890.1709
SEQUENCE:3
DTSTAMP:20260422T163842Z
URL:https://nglccny-gzcms.preview.gochambermaster.com/events/details/cglcc-trade-mission-invitation-only-1709
END:VEVENT

END:VCALENDAR
