BEGIN:VCALENDAR
VERSION:2.0
PRODID:-//ChamberMaster//Event Calendar 2.0//EN
METHOD:PUBLISH
X-PUBLISHED-TTL:P3D
REFRESH-INTERVAL:P3D
CALSCALE:GREGORIAN
BEGIN:VEVENT
DTSTART:20230503T190000Z
DTEND:20230503T200000Z
X-MICROSOFT-CDO-ALLDAYEVENT:FALSE
SUMMARY:Considerations for Going Global
DESCRIPTION:Please join nglccNY or an introductory webinar on global trade and learn how the National LGBT Chamber of Commerce (NGLCC)\, the U.S. Commercial Service\, and the Small Business Administration (SBA) are helping small businesses begin their export journey and increase their international sales.\n \n\nEach year\, thousands of U.S. companies boost their bottom line and competitiveness by meeting world demand for innovative\, quality products and services.\n \n\nThis webinar will focus on how U.S. firms can gain greater market access by exporting and what to consider to ensure your company is ready to conduct business internationally. Topics will include:\n\n \n\nDiscussions to be had before "going global"\n\nHow to begin developing international business strategies\n\nThe U.S. Commercial Service's Global Diversity Export Initiative\n\nResources from the Small Business Administration for new-to-export companies\n\n\n\n	\n		\n	\n	\n		\n			 \n			\n			\n				\n					\n				\n				\n					\n						\n						Learn More & Register for This Event\n						\n					\n				\n			\n			\n			\n		\n	\n\n\n\nThe webinar will be held via Webex. Participant instructions will be distributed following registration. Please reach out to education@nglcc.org with any questions. Thank you!
X-ALT-DESC;FMTTYPE=text/html:<p dir="ltr" style="line-height: 1.38\; margin-top: 0pt\; margin-bottom: 0pt\;"><span id="docs-internal-guid-e93dc56a-7fff-8985-c57b-6588f99cf927" style="caret-color: rgb(0\, 0\, 0)\; color: rgb(0\, 0\, 0)\;"><span style="font-size: 11pt\; font-family: Calibri\, sans-serif\; font-variant-ligatures: normal\; font-variant-east-asian: normal\; font-variant-position: normal\; vertical-align: baseline\; white-space: pre-wrap\;">Please join nglccNY </span><span style="font-size: 11pt\; font-family: Calibri\, sans-serif\; font-variant-ligatures: normal\; font-variant-east-asian: normal\; font-variant-position: normal\; vertical-align: baseline\; white-space: pre-wrap\;">or an introductory webinar on global trade and learn how the </span><a href="https://nglcc.org/" style="text-decoration: none\;"><span style="font-size: 11pt\; font-family: Calibri\, sans-serif\; color: rgb(17\, 85\, 204)\; font-variant-ligatures: normal\; font-variant-east-asian: normal\; font-variant-position: normal\; text-decoration: underline\; text-decoration-skip-ink: none\; vertical-align: baseline\; white-space: pre-wrap\;">National LGBT Chamber of Commerce</span></a><span style="font-size: 11pt\; font-family: Calibri\, sans-serif\; font-variant-ligatures: normal\; font-variant-east-asian: normal\; font-variant-position: normal\; vertical-align: baseline\; white-space: pre-wrap\;"> (NGLCC)\, the </span><a href="https://www.trade.gov/us-commercial-service" style="text-decoration: none\;"><span style="font-size: 11pt\; font-family: Calibri\, sans-serif\; color: rgb(17\, 85\, 204)\; font-variant-ligatures: normal\; font-variant-east-asian: normal\; font-variant-position: normal\; text-decoration: underline\; text-decoration-skip-ink: none\; vertical-align: baseline\; white-space: pre-wrap\;">U.S. Commercial Service</span></a><span style="font-size: 11pt\; font-family: Calibri\, sans-serif\; font-variant-ligatures: normal\; font-variant-east-asian: normal\; font-variant-position: normal\; vertical-align: baseline\; white-space: pre-wrap\;">\, and the </span><a href="https://www.sba.gov/" style="text-decoration: none\;"><span style="font-size: 11pt\; font-family: Calibri\, sans-serif\; color: rgb(17\, 85\, 204)\; font-variant-ligatures: normal\; font-variant-east-asian: normal\; font-variant-position: normal\; text-decoration: underline\; text-decoration-skip-ink: none\; vertical-align: baseline\; white-space: pre-wrap\;">Small Business Administration</span></a><span style="font-size: 11pt\; font-family: Calibri\, sans-serif\; font-variant-ligatures: normal\; font-variant-east-asian: normal\; font-variant-position: normal\; vertical-align: baseline\; white-space: pre-wrap\;"> (SBA) are helping small businesses begin their export journey and increase their international sales.</span></span></p>\n&nbsp\;\n\n<p dir="ltr" style="line-height: 1.38\; margin-top: 0pt\; margin-bottom: 0pt\;"><span id="docs-internal-guid-e93dc56a-7fff-8985-c57b-6588f99cf927" style="caret-color: rgb(0\, 0\, 0)\; color: rgb(0\, 0\, 0)\;"><span style="font-size: 11pt\; font-family: Calibri\, sans-serif\; font-variant-ligatures: normal\; font-variant-east-asian: normal\; font-variant-position: normal\; vertical-align: baseline\; white-space: pre-wrap\;">Each year\, thousands of U.S. companies boost their bottom line and competitiveness by meeting world demand for innovative\, quality products and services.</span></span></p>\n&nbsp\;\n\n<p dir="ltr" style="line-height: 1.38\; margin-top: 0pt\; margin-bottom: 0pt\;"><span id="docs-internal-guid-e93dc56a-7fff-8985-c57b-6588f99cf927" style="caret-color: rgb(0\, 0\, 0)\; color: rgb(0\, 0\, 0)\;"><span style="font-size: 11pt\; font-family: Calibri\, sans-serif\; font-variant-ligatures: normal\; font-variant-east-asian: normal\; font-variant-position: normal\; vertical-align: baseline\; white-space: pre-wrap\;">This webinar will focus on how U.S. firms can gain greater market access by exporting and what to consider to ensure your company is ready to conduct business internationally. Topics will include:</span></span><br />\n&nbsp\;</p>\n\n<p dir="ltr" role="presentation" style="list-style-type: disc\; font-size: 11pt\; font-family: Calibri\, sans-serif\; font-variant-ligatures: normal\; font-variant-east-asian: normal\; font-variant-position: normal\; vertical-align: baseline\; white-space: pre\;line-height: 1.38\; margin-top: 0pt\; margin-bottom: 0pt\;"><span id="docs-internal-guid-e93dc56a-7fff-8985-c57b-6588f99cf927" style="caret-color: rgb(0\, 0\, 0)\; color: rgb(0\, 0\, 0)\;"><span style="font-size: 11pt\; font-variant-ligatures: normal\; font-variant-east-asian: normal\; font-variant-position: normal\; vertical-align: baseline\; white-space: pre-wrap\;">Discussions to be had before &ldquo\;going global&rdquo\;</span></span></p>\n\n<p dir="ltr" role="presentation" style="list-style-type: disc\; font-size: 11pt\; font-family: Calibri\, sans-serif\; font-variant-ligatures: normal\; font-variant-east-asian: normal\; font-variant-position: normal\; vertical-align: baseline\; white-space: pre\;line-height: 1.38\; margin-top: 0pt\; margin-bottom: 0pt\;"><span id="docs-internal-guid-e93dc56a-7fff-8985-c57b-6588f99cf927" style="caret-color: rgb(0\, 0\, 0)\; color: rgb(0\, 0\, 0)\;"><span style="font-size: 11pt\; font-variant-ligatures: normal\; font-variant-east-asian: normal\; font-variant-position: normal\; vertical-align: baseline\; white-space: pre-wrap\;">How to begin developing international business strategies</span></span></p>\n\n<p dir="ltr" role="presentation" style="list-style-type: disc\; font-size: 11pt\; font-family: Calibri\, sans-serif\; font-variant-ligatures: normal\; font-variant-east-asian: normal\; font-variant-position: normal\; vertical-align: baseline\; white-space: pre\;line-height: 1.38\; margin-top: 0pt\; margin-bottom: 0pt\;"><span id="docs-internal-guid-e93dc56a-7fff-8985-c57b-6588f99cf927" style="caret-color: rgb(0\, 0\, 0)\; color: rgb(0\, 0\, 0)\;"><span style="font-size: 11pt\; font-variant-ligatures: normal\; font-variant-east-asian: normal\; font-variant-position: normal\; vertical-align: baseline\; white-space: pre-wrap\;">The U.S. Commercial Service&rsquo\;s Global Diversity Export Initiative</span></span></p>\n\n<p dir="ltr" role="presentation" style="list-style-type: disc\; font-size: 11pt\; font-family: Calibri\, sans-serif\; font-variant-ligatures: normal\; font-variant-east-asian: normal\; font-variant-position: normal\; vertical-align: baseline\; white-space: pre\;line-height: 1.38\; margin-top: 0pt\; margin-bottom: 0pt\;"><span id="docs-internal-guid-e93dc56a-7fff-8985-c57b-6588f99cf927" style="caret-color: rgb(0\, 0\, 0)\; color: rgb(0\, 0\, 0)\;"><span style="font-size: 11pt\; font-variant-ligatures: normal\; font-variant-east-asian: normal\; font-variant-position: normal\; vertical-align: baseline\; white-space: pre-wrap\;">Resources from the Small Business Administration for new-to-export companies</span></span></p>\n\n<div align="left" dir="ltr" style="margin-left: 0pt\;">\n<table style="border: none\; border-collapse: collapse\;">\n	<colgroup>\n		<col width="603" />\n	</colgroup>\n	<tbody>\n		<tr style="height: 41.75pt\;">\n			<td style="vertical-align: top\; padding: 5pt 5pt 8pt\; overflow: hidden\; overflow-wrap: break-word\;">&nbsp\;\n			<div align="left" dir="ltr" style="margin-left: 92.25pt\;">\n			<table style="border: none\; border-collapse: collapse\;">\n				<colgroup>\n					<col width="378" />\n				</colgroup>\n				<tbody>\n					<tr style="height: 29.25pt\;">\n						<td style="vertical-align: top\; background-color: rgb(225\, 35\, 26)\; padding: 8pt\; overflow: hidden\; overflow-wrap: break-word\;">\n						<p dir="ltr" style="line-height: 1.2\; text-align: center\; margin-top: 0pt\; margin-bottom: 0pt\;"><span id="docs-internal-guid-e93dc56a-7fff-8985-c57b-6588f99cf927" style="caret-color: rgb(0\, 0\, 0)\; color: rgb(0\, 0\, 0)\;"><a href="https://www.eventbrite.com/e/considerations-for-going-global-tickets-588357311557" style="text-decoration: none\;"><span style="font-size: 11pt\; font-family: Calibri\, sans-serif\; color: rgb(255\, 255\, 255)\; font-variant-ligatures: normal\; font-variant-east-asian: normal\; font-variant-position: normal\; text-decoration: underline\; text-decoration-skip-ink: none\; vertical-align: baseline\; white-space: pre-wrap\;">Learn More &amp\; Register for This Event</span></a></span></p>\n						</td>\n					</tr>\n				</tbody>\n			</table>\n			</div>\n			</td>\n		</tr>\n	</tbody>\n</table>\n</div>\n\n<p dir="ltr" style="line-height: 1.38\; margin-top: 0pt\; margin-bottom: 0pt\;"><span id="docs-internal-guid-e93dc56a-7fff-8985-c57b-6588f99cf927" style="caret-color: rgb(0\, 0\, 0)\; color: rgb(0\, 0\, 0)\;"><span style="font-size: 11pt\; font-family: Calibri\, sans-serif\; font-variant-ligatures: normal\; font-variant-east-asian: normal\; font-variant-position: normal\; vertical-align: baseline\; white-space: pre-wrap\;">The webinar will be held via Webex. Participant instructions will be distributed following registration. Please reach out to education@nglcc.org with any questions. Thank you!</span></span></p>\n
LOCATION:Register here for the virtual event
UID:e.1890.1635
SEQUENCE:3
DTSTAMP:20260423T225608Z
URL:https://nglccny-gzcms.preview.gochambermaster.com/events/details/considerations-for-going-global-1635
END:VEVENT

END:VCALENDAR
