BEGIN:VCALENDAR
VERSION:2.0
PRODID:-//ChamberMaster//Event Calendar 2.0//EN
METHOD:PUBLISH
X-PUBLISHED-TTL:P3D
REFRESH-INTERVAL:P3D
CALSCALE:GREGORIAN
BEGIN:VEVENT
DTSTART:20250521T150000Z
DTEND:20250521T170000Z
X-MICROSOFT-CDO-ALLDAYEVENT:FALSE
SUMMARY:NGLCC Food & Beverage/Hospitality Matchmaker
DESCRIPTION:To register\, please see below:\n\n\n\nWhat: NGLCC's Food & Beverage/Hospitality Industry Council & Related Services B2B & B2C Matchmakers\n\n\n\nWhen: Wednesday\, May 21\, 2025 | 11am-1pm & 3pm-5pm ET\n\n\n\nWhere: Virtual Matchmakers' Platform: please go here or select the link below\n\n\n\nhttps://nglccmatches.com/event/foodandbeverage2025\n\nFor passcode\, please reach out to matchmakers@nglcc.org.\n\n\n\nMatchmakers are prescheduled\, 15-minute meetings between Certified companies\, allied\, interested small businesses and Corporate Partner procurement professionals. These meetings are a unique opportunity for small businesses to get one-on-one advice on how their business can gain access to procurement opportunities with Corporate Partners. Our goal is for these businesses and corporate procurement professionals to delve into the specifics of how each business can leverage the opportunities our corporate partners have to help the suppliers grow. Also\, certified suppliers can meet one another for possible business and/or Tier 2 contracting opportunities.\n\n\n\nWe hope you all take advantage of this great opportunity. Please do not hesitate to reach out to matchmakers@nglcc.org for any questions.
X-ALT-DESC;FMTTYPE=text/html:To register\, please see below:<br />\n<br />\nWhat: NGLCC&rsquo\;s Food &amp\; Beverage/Hospitality Industry Council &amp\; Related Services B2B &amp\; B2C Matchmakers<br />\n<br />\nWhen: Wednesday\, May 21\, 2025 | 11am-1pm &amp\; 3pm-5pm ET<br />\n<br />\nWhere: Virtual Matchmakers&rsquo\; Platform: please go <a href="https://nglccmatches.com/event/foodandbeverage2025">here</a> or select the link below<br />\n<br />\nhttps://nglccmatches.com/event/foodandbeverage2025<br />\nFor passcode\, please reach out to matchmakers@nglcc.org.<br />\n<br />\nMatchmakers are prescheduled\, 15-minute meetings between Certified companies\, allied\, interested small businesses and Corporate Partner procurement professionals. These meetings are a unique opportunity for small businesses to get one-on-one advice on how their business can gain access to procurement opportunities with Corporate Partners. Our goal is for these businesses and corporate procurement professionals to delve into the specifics of how each business can leverage the opportunities our corporate partners have to help the suppliers grow. Also\, certified suppliers can meet one another for possible business and/or Tier 2 contracting opportunities.<br />\n<br />\nWe hope you all take advantage of this great opportunity. Please do not hesitate to reach out to matchmakers@nglcc.org for any questions.
LOCATION:
UID:e.1890.1852
SEQUENCE:3
DTSTAMP:20260419T185759Z
URL:https://nglccny-gzcms.preview.gochambermaster.com/events/details/nglcc-food-beverage-hospitality-matchmaker-1852
END:VEVENT

END:VCALENDAR
