BEGIN:VCALENDAR
VERSION:2.0
PRODID:-//ChamberMaster//Event Calendar 2.0//EN
METHOD:PUBLISH
X-PUBLISHED-TTL:P3D
REFRESH-INTERVAL:P3D
CALSCALE:GREGORIAN
BEGIN:VEVENT
DTSTART:20240522T190000Z
DTEND:20240522T201500Z
X-MICROSOFT-CDO-ALLDAYEVENT:FALSE
SUMMARY:nglccNY Certified LGBTBE Roundtable: Gear Up For 2024 NGLCC International Business and Leadership Conference
DESCRIPTION:Note: This event is strictly for certified LGBTBEs \n\nFor information on getting your getting your business certified please email gunner@nglccny.org\n\n\n\nIf you're a certified LGBTBE please join us for this exclusive roundtable and Q&A ahead of our 2024 NGLCC International Business and Leadership Conference in Palm Springs! Never been to conference before? Not sure how to prepare? We're here to answer your questions!
X-ALT-DESC;FMTTYPE=text/html:<em>Note: This event is strictly for certified LGBTBEs&nbsp\;<br />\nFor information on getting your getting your business certified please email gunner@nglccny.org</em><br />\n<br />\nIf you&#39\;re a certified LGBTBE please join us for this exclusive roundtable and Q&amp\;A ahead of our 2024 NGLCC International Business and Leadership Conference in Palm Springs! Never been to conference before? Not sure how to prepare? We&#39\;re here to answer your questions!&nbsp\;
LOCATION:VIRTUAL: REGISTER HERE
UID:e.1890.1755
SEQUENCE:3
DTSTAMP:20260422T003213Z
URL:https://nglccny-gzcms.preview.gochambermaster.com/events/details/nglccny-certified-lgbtbe-roundtable-gear-up-for-2024-nglcc-international-business-and-leadership-conference-1755
END:VEVENT

END:VCALENDAR
