BEGIN:VCALENDAR
VERSION:2.0
PRODID:-//ChamberMaster//Event Calendar 2.0//EN
METHOD:PUBLISH
X-PUBLISHED-TTL:P3D
REFRESH-INTERVAL:P3D
CALSCALE:GREGORIAN
BEGIN:VEVENT
DTSTART:20231212T230000Z
DTEND:20231213T013000Z
X-MICROSOFT-CDO-ALLDAYEVENT:FALSE
SUMMARY:NY15 Year Celebration
DESCRIPTION:Registration is closed - if you need a last minute ticket\, please email us at info@nglccNY.org\n\n\n\nnglccNY is celebrating 15 YEARS as the premier LGBTQ+ business network in New York\, and as the regional NYC Headquarters of the National LGBT Chamber of Commerce (NGLCC) with over 800 members and nearly 300 NGLCC certified LGBTQ Business Enterprises locally!\n\n \n\nJoin us for a celebration of the industry-leading\, innovative companies that makes nglccNY one of the most active and successful hubs for LGBTQ business owners anywhere in the world. Tickets include a taste of NYC\, open bar\, entertainment\, and an inspiring (brief) awards program!\n\n\n\nMATCHMAKING REGISTRATION IS CLOSED: Certified LGBTBEs and Corporate Partner reps are invited to join us before the event for special matchmaking opportunity presented by Wells Fargo!  You can add matchmaking when registering for the reception\, or visit here.
X-ALT-DESC;FMTTYPE=text/html:<span style="font-family:trebuchet ms\,sans-serif\;"><span style="color:#FF8C00\;">Registration is closed - if you need a last minute ticket\, please email us at info@nglccNY.org</span><br />\n<br />\nnglccNY is celebrating 15 YEARS as the premier LGBTQ+ business network in New York\, and as the regional NYC Headquarters of the National LGBT Chamber of Commerce (NGLCC) with over 800 members and nearly 300 NGLCC certified LGBTQ Business Enterprises locally!</span><br />\n&nbsp\;<br />\n<span style="font-family:trebuchet ms\,sans-serif\;">Join us for a celebration of the industry-leading\, innovative companies that makes nglccNY one of the most active and successful hubs for LGBTQ business owners anywhere in the world. Tickets include a taste of NYC\, open bar\, entertainment\, and an inspiring (brief) awards program!</span><br />\n<br />\nMATCHMAKING REGISTRATION IS CLOSED: Certified LGBTBEs and Corporate Partner reps are invited to join us before the event for special matchmaking opportunity presented by Wells Fargo!&nbsp\; You can add matchmaking when registering for the reception\, or visit <a href="https://business.nglccny.org/events/details/matchmaking-event-1699?calendarMonth=2023-12-01">here</a>.
LOCATION:Wells Fargo Connections 150 E 42nd St\, New York\, NY 10017
UID:e.1890.1689
SEQUENCE:3
DTSTAMP:20260423T010141Z
URL:https://nglccny-gzcms.preview.gochambermaster.com/events/details/ny15-year-celebration-1689
END:VEVENT

END:VCALENDAR
