BEGIN:VCALENDAR
VERSION:2.0
PRODID:-//ChamberMaster//Event Calendar 2.0//EN
METHOD:PUBLISH
X-PUBLISHED-TTL:P3D
REFRESH-INTERVAL:P3D
CALSCALE:GREGORIAN
BEGIN:VEVENT
DTSTART:20230927T220000Z
DTEND:20230928T000000Z
X-MICROSOFT-CDO-ALLDAYEVENT:FALSE
SUMMARY:September 2023 M3 | Hosted by EqualPride
DESCRIPTION:The National LGBT Chamber of Commerce New York \n\nM3:  Members' Monthly Mixer \n\n\n\n \n\nJoin us for our September 2023 M3: Members' Monthly Mixer\, hosted by EqualPride at the historic Stonewall Inn! Don't miss this opportunity to forge meaningful connections with members\, corporate partners\, and non-profit leaders.\n\n\n\nEqualpride operates OUT and The Advocate magazines\, as well as several other brands. Their award-winning content is delivered within a dynamic portfolio of media properties that are rich in history\, culture\, news\, entertainment\, fashion\, and photography. Together\, these properties capture the many facets of the LGBTQ experience and reach millions of readers and viewers every month. \n\n\n\n\n\nWhat's the buzz? Use #NGLCCNYM3 on all of your social posts!
X-ALT-DESC;FMTTYPE=text/html:<div style="margin: 0px\; padding: 0px\; border: 0px transparent\; outline: 0px\; vertical-align: baseline\; list-style-type: none\; color: rgb(0\, 0\, 0)\; font-family: Helvetica\, Arial\, sans-serif\; line-height: 16px\; text-align: center\;">\n<div class="e2ma-p-div" color:="" dejavu="" font-size:="" segoe="" style="margin-bottom: 10px\; line-height: 1.5\; font-family: " text-align:="" trebuchet="">&nbsp\;</div>\n</div>\n\n<p style="text-align: center\;">&nbsp\;</p>\n\n<p style="text-align: center\;"><span style="font-size: 14px\;"><strong>The National LGBT&nbsp\;Chamber of Commerce&nbsp\;New York&nbsp\;</strong></span></p>\n\n<p style="text-align: center\;"><span style="font-size: 14px\;"><strong>M3: &nbsp\;Members&#39\; Monthly Mixer&nbsp\;</strong></span><br />\n<br />\n&nbsp\;</p>\n\n<p><span style="font-family:arial\;">Join us</span>&nbsp\;for our&nbsp\;September 2023&nbsp\;M3: Members&#39\; Monthly Mixer\, hosted by&nbsp\;<a href="https://equalpride.com">EqualPride</a>&nbsp\;at the historic Stonewall Inn! Don&#39\;t miss this opportunity to forge meaningful connections with members\, corporate partners\, and non-profit leaders.<br />\n<br />\n<span style="color: rgba(0\, 0\, 0\, 0.9)\; font-family: -apple-system\, system-ui\, &quot\;system-ui&quot\;\, &quot\;Segoe UI&quot\;\, Roboto\, &quot\;Helvetica Neue&quot\;\, &quot\;Fira Sans&quot\;\, Ubuntu\, Oxygen\, &quot\;Oxygen Sans&quot\;\, Cantarell\, &quot\;Droid Sans&quot\;\, &quot\;Apple Color Emoji&quot\;\, &quot\;Segoe UI Emoji&quot\;\, &quot\;Segoe UI Emoji&quot\;\, &quot\;Segoe UI Symbol&quot\;\, &quot\;Lucida Grande&quot\;\, Helvetica\, Arial\, sans-serif\; font-size: 16px\; white-space-collapse: preserve\;">Equalpride operates OUT and The Advocate magazines\, as well as several other brands. Their award-winning content is delivered within a dynamic portfolio of media properties that are rich in history\, culture\, news\, entertainment\, fashion\, and photography. Together\, these properties capture the many facets of the LGBTQ experience and reach millions of readers and viewers every month. </span><br />\n<br />\n<br />\n<span style="font-size: 14px\; text-align: center\;">What&#39\;s the buzz? Use</span><strong style="font-size: 14px\; text-align: center\;">&nbsp\;<span style="color: rgb(0\, 0\, 0)\;">#NGLCCNYM3&nbsp\;</span></strong><span style="font-size: 14px\; text-align: center\; color: rgb(0\, 0\, 0)\;">on all of your social posts!</span></p>\n
LOCATION:Stonewall Inn 53 Christopher St New York NY 10014
UID:e.1890.1684
SEQUENCE:3
DTSTAMP:20260423T082646Z
URL:https://nglccny-gzcms.preview.gochambermaster.com/events/details/september-2023-m3-hosted-by-equalpride-1684
END:VEVENT

END:VCALENDAR
