BEGIN:VCALENDAR
VERSION:2.0
PRODID:-//ChamberMaster//Event Calendar 2.0//EN
METHOD:PUBLISH
X-PUBLISHED-TTL:P3D
REFRESH-INTERVAL:P3D
CALSCALE:GREGORIAN
BEGIN:VEVENT
DTSTART:20250425T160000Z
DTEND:20250425T170000Z
X-MICROSOFT-CDO-ALLDAYEVENT:FALSE
SUMMARY:Virtual Lunch and Learn - Q&A with Executive Team
DESCRIPTION:Join us for an exclusive conversation with Barton Jackson\, the new Executive Director of nglccNY and Gunner Gardner Senior Membership Manager and Certification Associate! After six exciting months at the helm\, Barton will share insights into their leadership journey\, the future vision for nglccNY\, and what the executive team has learned so far.\n\n\n\nLearn more at nglccny.org. Questions? Contact info@nglccny.org.\n\n\n\nREGISTER HERE
X-ALT-DESC;FMTTYPE=text/html:Join us for an exclusive conversation with Barton Jackson\, the new Executive Director of nglccNY and Gunner Gardner Senior Membership Manager and Certification Associate! After six exciting months at the helm\, Barton will share insights into their leadership journey\, the future vision for nglccNY\, and what the executive team has learned so far.<br />\n<br />\nLearn more at nglccny.org. Questions? Contact info@nglccny.org.<br />\n<br />\n<strong><a href="https://us06web.zoom.us/meeting/register/r9-BANfDST-fAy3Rx8P15w">REGISTER HERE</a></strong>
LOCATION:This event is virtual via Zoom. REGISTER HERE
UID:e.1890.1846
SEQUENCE:3
DTSTAMP:20260420T001004Z
URL:https://nglccny-gzcms.preview.gochambermaster.com/events/details/virtual-lunch-and-learn-q-a-with-executive-team-1846
END:VEVENT

END:VCALENDAR
